BEGIN:VCALENDAR
VERSION:2.0
PRODID:-//小倉WEB - ECPv6.11.2//NONSGML v1.0//EN
CALSCALE:GREGORIAN
METHOD:PUBLISH
X-ORIGINAL-URL:https://kokuraweb.com
X-WR-CALDESC:小倉WEB のイベント
REFRESH-INTERVAL;VALUE=DURATION:PT1H
X-Robots-Tag:noindex
X-PUBLISHED-TTL:PT1H
BEGIN:VTIMEZONE
TZID:Asia/Tokyo
BEGIN:STANDARD
TZOFFSETFROM:+0900
TZOFFSETTO:+0900
TZNAME:JST
DTSTART:20250101T000000
END:STANDARD
END:VTIMEZONE
BEGIN:VEVENT
DTSTART;VALUE=DATE:20250613
DTEND;VALUE=DATE:20250616
DTSTAMP:20260424T125934
CREATED:20250522T053526Z
LAST-MODIFIED:20250522T053652Z
UID:2029-1749772800-1750031999@kokuraweb.com
SUMMARY:山田ほたる祭り2025
DESCRIPTION:2025年5月30日（金）〜6月15日（日）の金・土・日曜日に、北九州市小倉北区の山田緑地にて【山田ほたる祭り2025】が開催されます。 \n夜の山田緑地に舞うゲンジボタルの幻想的な光を楽しめるだけでなく、期間中は屋外コンサートやこども縁日、特別ガイドツアー「ほたる探検隊」など、多彩な企画も充実。家族で訪れて自然とふれあい、楽しいひとときを過ごせます。 \n   山田ほたる祭り2025｜光と自然を楽しむ9日間の夜の森さんぽ
URL:https://kokuraweb.com/event/calendar22/
END:VEVENT
BEGIN:VEVENT
DTSTART;VALUE=DATE:20250606
DTEND;VALUE=DATE:20250609
DTSTAMP:20260424T125934
CREATED:20250522T053452Z
LAST-MODIFIED:20250522T053722Z
UID:2027-1749168000-1749427199@kokuraweb.com
SUMMARY:山田ほたる祭り2025
DESCRIPTION:2025年5月30日（金）〜6月15日（日）の金・土・日曜日に、北九州市小倉北区の山田緑地にて【山田ほたる祭り2025】が開催されます。 \n夜の山田緑地に舞うゲンジボタルの幻想的な光を楽しめるだけでなく、期間中は屋外コンサートやこども縁日、特別ガイドツアー「ほたる探検隊」など、多彩な企画も充実。家族で訪れて自然とふれあい、楽しいひとときを過ごせます。 \n   山田ほたる祭り2025｜光と自然を楽しむ9日間の夜の森さんぽ
URL:https://kokuraweb.com/event/calendar21/
END:VEVENT
BEGIN:VEVENT
DTSTART;VALUE=DATE:20250530
DTEND;VALUE=DATE:20250602
DTSTAMP:20260424T125934
CREATED:20250521T032630Z
LAST-MODIFIED:20250522T053732Z
UID:2018-1748563200-1748822399@kokuraweb.com
SUMMARY:山田ほたる祭り2025
DESCRIPTION:2025年5月30日（金）〜6月15日（日）の金・土・日曜日に、北九州市小倉北区の山田緑地にて【山田ほたる祭り2025】が開催されます。 \n夜の山田緑地に舞うゲンジボタルの幻想的な光を楽しめるだけでなく、期間中は屋外コンサートやこども縁日、特別ガイドツアー「ほたる探検隊」など、多彩な企画も充実。家族で訪れて自然とふれあい、楽しいひとときを過ごせます。 \n   山田ほたる祭り2025｜光と自然を楽しむ9日間の夜の森さんぽ
URL:https://kokuraweb.com/event/calendar20/
END:VEVENT
END:VCALENDAR