BEGIN:VCALENDAR
VERSION:2.0
PRODID:-//小倉WEB - ECPv6.11.2//NONSGML v1.0//EN
CALSCALE:GREGORIAN
METHOD:PUBLISH
X-WR-CALNAME:小倉WEB
X-ORIGINAL-URL:https://kokuraweb.com
X-WR-CALDESC:小倉WEB のイベント
REFRESH-INTERVAL;VALUE=DURATION:PT1H
X-Robots-Tag:noindex
X-PUBLISHED-TTL:PT1H
BEGIN:VTIMEZONE
TZID:Asia/Tokyo
BEGIN:STANDARD
TZOFFSETFROM:+0900
TZOFFSETTO:+0900
TZNAME:JST
DTSTART:20250101T000000
END:STANDARD
END:VTIMEZONE
BEGIN:VEVENT
DTSTART;VALUE=DATE:20250607
DTEND;VALUE=DATE:20250609
DTSTAMP:20260424T074104
CREATED:20250517T062856Z
LAST-MODIFIED:20250517T062856Z
UID:1914-1749254400-1749427199@kokuraweb.com
SUMMARY:THE FOOD FESTA らぁ麺
DESCRIPTION:2025年6月7日（土）・8日（日）、THE OUTLETS KITAKYUSHUのアクティベーションフィールドにて【THE FOOD FESTA らぁ麺】が開催されます。 \n第一弾はラーメンフェス！県外の人気ラーメン店も出店し、アクティベーションフィールドが熱気と香りに包まれます。\nスープの旨み、麺のコシ、トッピングの個性…“推しの一杯”に出会える2日間限定のグルメイベントです。 \n   THE FOOD FESTA らぁ麺 × THE OUTLETS KITAKYUSHU｜全国のラーメンが集まる麺フェス！
URL:https://kokuraweb.com/event/calendar13/
END:VEVENT
BEGIN:VEVENT
DTSTART;VALUE=DATE:20250607
DTEND;VALUE=DATE:20250608
DTSTAMP:20260424T074104
CREATED:20250520T135007Z
LAST-MODIFIED:20250520T135007Z
UID:1998-1749254400-1749340799@kokuraweb.com
SUMMARY:貫川ほたるまつり2025
DESCRIPTION:2025年6月7日（土）、北九州市小倉南区の貫川・府殿入口バス停前 西鉄広場にて【貫川ほたるまつり】が開催されます。 \n地域の手で守られてきた貫川の自然とホタル。その美しい飛翔を見守る初夏の夜、地域交流の場として賑わう恒例のほたるまつりが今年も開催されます。露店も多数出店予定で、にぎやかに楽しめる一夜となります。 \n   貫川ほたるまつり2025｜ホタルと楽しむ初夏の夜
URL:https://kokuraweb.com/event/calendar19/
END:VEVENT
BEGIN:VEVENT
DTSTART;VALUE=DATE:20250606
DTEND;VALUE=DATE:20250609
DTSTAMP:20260424T074104
CREATED:20250522T053452Z
LAST-MODIFIED:20250522T053722Z
UID:2027-1749168000-1749427199@kokuraweb.com
SUMMARY:山田ほたる祭り2025
DESCRIPTION:2025年5月30日（金）〜6月15日（日）の金・土・日曜日に、北九州市小倉北区の山田緑地にて【山田ほたる祭り2025】が開催されます。 \n夜の山田緑地に舞うゲンジボタルの幻想的な光を楽しめるだけでなく、期間中は屋外コンサートやこども縁日、特別ガイドツアー「ほたる探検隊」など、多彩な企画も充実。家族で訪れて自然とふれあい、楽しいひとときを過ごせます。 \n   山田ほたる祭り2025｜光と自然を楽しむ9日間の夜の森さんぽ
URL:https://kokuraweb.com/event/calendar21/
END:VEVENT
BEGIN:VEVENT
DTSTART;VALUE=DATE:20250606
DTEND;VALUE=DATE:20250607
DTSTAMP:20260424T074104
CREATED:20250605T154856Z
LAST-MODIFIED:20250605T154856Z
UID:2279-1749168000-1749254399@kokuraweb.com
SUMMARY:門司港びあが〜でん2025
DESCRIPTION:2025年6月の毎週金曜日、北九州市門司区の門司港栄町銀天街にて【門司港びあが〜でん2025】が開催されます。 \n「商店街は寂れている」というイメージを吹き飛ばす、活気に満ちたナイトイベント！クラフトビールや地元酒造の出張蔵開き、地ワインのお披露目など、週替わりで楽しめる特別企画も盛りだくさん。週末のスタートにぴったりな“まちなかビアガーデン”を楽しみに、門司港へ出かけてみませんか？ \n   門司港びあが〜でん2025｜毎週金曜は門司港で乾杯！
URL:https://kokuraweb.com/event/calendar32/
END:VEVENT
BEGIN:VEVENT
DTSTART;VALUE=DATE:20250601
DTEND;VALUE=DATE:20250602
DTSTAMP:20260424T074104
CREATED:20250527T125335Z
LAST-MODIFIED:20250527T125335Z
UID:2170-1748736000-1748822399@kokuraweb.com
SUMMARY:こどものマーケット in あさの汐風公園
DESCRIPTION:2025年6月1日（日）、北九州市小倉北区・あさの汐風公園にて【こどものマーケット in あさの汐風公園】が開催されます。 \n「やってみたい！」を実際に体験できる、子ども向けのお仕事体験＆遊び体験イベント。こども店長やてしごと体験、リユース市などを通じて“挑戦する楽しさ”を学べるだけでなく、ビーサンとばし選手権やうまい棒ソムリエ対決など大人も一緒に楽しめる企画が盛りだくさん。入場無料、家族で楽しめる1日限りのお祭りです！ \n   こどものマーケット in あさの汐風公園｜“やってみたい”がカタチになる体験イベント
URL:https://kokuraweb.com/event/calendar28/
END:VEVENT
BEGIN:VEVENT
DTSTART;VALUE=DATE:20250601
DTEND;VALUE=DATE:20250602
DTSTAMP:20260424T074104
CREATED:20250525T031114Z
LAST-MODIFIED:20250525T031114Z
UID:2113-1748736000-1748822399@kokuraweb.com
SUMMARY:第27回 若松あじさい祭り
DESCRIPTION:2025年6月1日（日）、8日（日）、15日（日）の3日間、北九州市若松区・高塔山公園にて【第27回 若松あじさい祭り】が開催されます。 \n約74\,700株のあじさいが咲き誇る高塔山公園では、山あじさいと西洋あじさいが見頃を迎え、あじさい展やガーデニング企画、飲食ブースなど多彩な催しが楽しめます。期間中は無料シャトルバスの運行や湯茶接待も行われ、初夏の風物詩として多くの来場者で賑わいます。 \n   若松あじさい祭り2025｜7万株の花が彩る高塔山の初夏
URL:https://kokuraweb.com/event/calendar24/
END:VEVENT
BEGIN:VEVENT
DTSTART;VALUE=DATE:20250531
DTEND;VALUE=DATE:20250602
DTSTAMP:20260424T074104
CREATED:20250528T154559Z
LAST-MODIFIED:20250528T154559Z
UID:2178-1748649600-1748822399@kokuraweb.com
SUMMARY:& My Dog 10
DESCRIPTION:2025年5月31日（土）・6月1日（日）、北九州市門司港レトロ中央広場・親水広場にて【& My Dog 10】が開催されます。 \n記念すべき第10回を迎える本イベントは、わんちゃんと飼い主が一緒に楽しめる“ドッグマルシェ”。リード・洋服・おやつ・おもちゃなど愛犬グッズが豊富に揃い、キッチンカーやスイーツブースも充実しています。6月1日（日）には、愛犬と一緒に楽しめるステージイベントも開催予定です。 \n   & My Dog 10｜愛犬と一緒におでかけ！門司港で開催のドッグマルシェ
URL:https://kokuraweb.com/event/calendar29/
END:VEVENT
BEGIN:VEVENT
DTSTART;VALUE=DATE:20250531
DTEND;VALUE=DATE:20250602
DTSTAMP:20260424T074104
CREATED:20250512T162619Z
LAST-MODIFIED:20250512T162707Z
UID:1741-1748649600-1748822399@kokuraweb.com
SUMMARY:小倉カーブーツ
DESCRIPTION:2025年5月31日(土)・6月1日(日)、小倉北区城内・鴎外橋付近で【小倉カーブーツ】が開催されます。\nイギリス発祥の“カーブーツセール”をモチーフにしたこのイベントは、車のトランクをそのまま売り場として活用するユニークなフリーマーケットです。掘り出し物や一期一会の出会いが魅力です！ \n   小倉カーブーツ2025｜小倉で楽しむトランクフリマ＆掘り出し物探し！
URL:https://kokuraweb.com/event/calendar6/
END:VEVENT
BEGIN:VEVENT
DTSTART;VALUE=DATE:20250531
DTEND;VALUE=DATE:20250602
DTSTAMP:20260424T074104
CREATED:20250511T082109Z
LAST-MODIFIED:20250511T082123Z
UID:1702-1748649600-1748822399@kokuraweb.com
SUMMARY:Night at the Movies
DESCRIPTION:2025年5月31日（土）・6月1日（日）、北九州市小倉北区の魚町みらい広場にて【Night at the Movies】が開催されます。 \n都会の喧騒を忘れて、開放的な空間で映画を楽しむ2日間。Night at the Moviesは、街中の公園や広場を舞台に、夜空の下で映画を鑑賞する特別なイベントです。普段とは違うロケーションで、映画の世界に浸る贅沢なひとときをお届けします。 \n   Night at the Movies｜広場がシアターになる2日間
URL:https://kokuraweb.com/event/calendar4/
END:VEVENT
BEGIN:VEVENT
DTSTART;VALUE=DATE:20250530
DTEND;VALUE=DATE:20250602
DTSTAMP:20260424T074104
CREATED:20250521T032630Z
LAST-MODIFIED:20250522T053732Z
UID:2018-1748563200-1748822399@kokuraweb.com
SUMMARY:山田ほたる祭り2025
DESCRIPTION:2025年5月30日（金）〜6月15日（日）の金・土・日曜日に、北九州市小倉北区の山田緑地にて【山田ほたる祭り2025】が開催されます。 \n夜の山田緑地に舞うゲンジボタルの幻想的な光を楽しめるだけでなく、期間中は屋外コンサートやこども縁日、特別ガイドツアー「ほたる探検隊」など、多彩な企画も充実。家族で訪れて自然とふれあい、楽しいひとときを過ごせます。 \n   山田ほたる祭り2025｜光と自然を楽しむ9日間の夜の森さんぽ
URL:https://kokuraweb.com/event/calendar20/
END:VEVENT
BEGIN:VEVENT
DTSTART;VALUE=DATE:20250524
DTEND;VALUE=DATE:20250526
DTSTAMP:20260424T074104
CREATED:20250519T143326Z
LAST-MODIFIED:20250519T143326Z
UID:1975-1748044800-1748217599@kokuraweb.com
SUMMARY:第30回 香月・黒川ほたる祭り2025
DESCRIPTION:2025年5月24日（土）・25日（日）、北九州市八幡西区・黒川一帯及び杉守神社にて【香月・黒川ほたる祭り】が開催されます。\n黒川の清流沿いでは、ピーク時に5\,000匹を超えるホタルが舞い、幻想的な光景が広がります。期間中は屋台が並び、川沿いでは交通規制が行われるなど、地域が一体となって賑わう初夏の風物詩です。24日（土）には杉守神社にてステージイベントやサプライズ花火も開催され、家族連れや観光客でにぎわいます。 \n   第30回 香月・黒川ほたる祭り2025｜初夏の夜を彩る5\,000の光
URL:https://kokuraweb.com/event/calendar17/
END:VEVENT
BEGIN:VEVENT
DTSTART;VALUE=DATE:20250524
DTEND;VALUE=DATE:20250525
DTSTAMP:20260424T074104
CREATED:20250518T071157Z
LAST-MODIFIED:20250518T071157Z
UID:1937-1748044800-1748131199@kokuraweb.com
SUMMARY:第18回 撥川ホタル祭り
DESCRIPTION:2025年5月24日（土）、北九州市八幡西区「曲里の松並木公園」にて【第18回 撥川ホタル祭り】が開催されます。 \n初夏の夜を彩るゲンジボタルの飛翔に合わせて行われるこのイベントでは、黒崎中学校のエコ・ガーデニング部によるホタル育成の展示や、幼稚園児による演奏・演舞、音楽やダンスのステージ、屋台の出店なども楽しめます。都心の川沿いで毎年300頭ほどのホタルが観賞できる貴重な催しです。 \n   第18回 撥川ホタル祭り｜黒崎の川辺で楽しむ幻想的な一夜
URL:https://kokuraweb.com/event/calendar14/
END:VEVENT
BEGIN:VEVENT
DTSTART;VALUE=DATE:20250524
DTEND;VALUE=DATE:20250525
DTSTAMP:20260424T074104
CREATED:20250520T131904Z
LAST-MODIFIED:20250520T131904Z
UID:1990-1748044800-1748131199@kokuraweb.com
SUMMARY:第32回 鞘ヶ谷ホタルまつり
DESCRIPTION:2025年5月24日（土）、北九州市戸畑区の鞘ヶ谷ほたる公園にて【第32回 鞘ヶ谷ホタルまつり】が開催されます。\n地域に根ざした交流イベントとして親しまれる本まつりでは、ホタル観賞に加え、ステージ演芸や夜店、消防車展示など家族みんなで楽しめる企画が満載です。自然と地域のぬくもりを感じながら、初夏の夕暮れを満喫しませんか？ \n   第32回 鞘ヶ谷ホタルまつり｜自然と地域がつながる光の祭典
URL:https://kokuraweb.com/event/calendar18/
END:VEVENT
BEGIN:VEVENT
DTSTART;VALUE=DATE:20250524
DTEND;VALUE=DATE:20250526
DTSTAMP:20260424T074104
CREATED:20250518T073449Z
LAST-MODIFIED:20250518T073449Z
UID:1948-1748044800-1748217599@kokuraweb.com
SUMMARY:第80回 門司みなと祭2025
DESCRIPTION:2025年5月24日（土）・25日（日）、北九州市門司港エリアにて【第80回 門司みなと祭】が開催されます。 \n1934年に始まり、日本三大みなと祭りの一つとして知られる本イベントは、国際港として栄えた門司港の歴史と、現在の市民の活気が融合する伝統ある祭りです。今年は「未来に向かって世界を繋ぐ」をテーマに、祝賀パレードやワールドマーケット、艦船公開など多彩な催しが行われます。 \n   第80回 門司みなと祭2025｜歴史と国際色が彩る港まつり
URL:https://kokuraweb.com/event/calendar15/
END:VEVENT
BEGIN:VEVENT
DTSTART;VALUE=DATE:20250523
DTEND;VALUE=DATE:20250602
DTSTAMP:20260424T074104
CREATED:20250513T144646Z
LAST-MODIFIED:20250513T144646Z
UID:1823-1747958400-1748822399@kokuraweb.com
SUMMARY:小倉オクトーバーフェスト2025
DESCRIPTION:2025年5月23日（金）～6月1日（日）、北九州市小倉北区の勝山公園にて【小倉オクトーバーフェスト2025】が開催されます。\n本場ドイツのビールと料理、音楽が楽しめる10日間のフェスティバル。親子や友人同士で、初夏の小倉の青空の下「プロースト！（乾杯）」を体験しましょう。 \n   小倉オクトーバーフェスト2025｜本場ドイツビールと音楽が楽しめる10日間！
URL:https://kokuraweb.com/event/calendar10/
END:VEVENT
BEGIN:VEVENT
DTSTART;VALUE=DATE:20250517
DTEND;VALUE=DATE:20250519
DTSTAMP:20260424T074104
CREATED:20250515T141344Z
LAST-MODIFIED:20250515T141344Z
UID:1876-1747440000-1747612799@kokuraweb.com
SUMMARY:春の山田の森フェスタ2025
DESCRIPTION:2025年5月17日（土）・18日（日）、北九州市小倉北区の山田緑地にて【春の山田の森フェスタ2025】が開催されます。\n自然・生き物・植物をテーマにしたワークショップが多数開催され、子どもから大人まで楽しめる体験型イベントです。春の自然の中で、心も体もリフレッシュしながら学びと遊びを満喫しましょう。 \n   春の山田の森フェスタ2025｜自然体験とワークショップを楽しむ2日間！
URL:https://kokuraweb.com/event/calendar11/
END:VEVENT
BEGIN:VEVENT
DTSTART;VALUE=DATE:20250517
DTEND;VALUE=DATE:20250519
DTSTAMP:20260424T074104
CREATED:20250511T121416Z
LAST-MODIFIED:20250511T121416Z
UID:1736-1747440000-1747612799@kokuraweb.com
SUMMARY:黒崎よさこい祭り2025
DESCRIPTION:2025年5月17日（土）・18日（日）、北九州市八幡西区黒崎エリアにて【黒崎よさこい祭り2025】が開催されます。 \n「街に元気を！人に元気を！」を合言葉に、全国から集まったよさこいチームが黒崎の街を彩ります。メイン会場の曲里の松並木公園をはじめ、ふれあい通りや黒崎中央公園など、街全体が演舞の舞台となります。 \n   黒崎よさこい祭り2025｜学生と地域が彩る初夏の黒崎
URL:https://kokuraweb.com/event/calendar5/
END:VEVENT
BEGIN:VEVENT
DTSTART;VALUE=DATE:20250517
DTEND;VALUE=DATE:20250518
DTSTAMP:20260424T074104
CREATED:20250513T074012Z
LAST-MODIFIED:20250513T074029Z
UID:1801-1747440000-1747526399@kokuraweb.com
SUMMARY:なぞときラリー in 小倉
DESCRIPTION:2025年5月17日（土）、リバーウォーク北九州周辺で【なぞときラリー in 小倉】が開催されます。\n簡単ななぞから少し難しいものまで、親子で協力して解きながら、小倉の街を歩いて楽しむ体験型ラリーイベントです。普段は気づかない景色や発見に出会えるかもしれません。 \n   なぞときラリー in 小倉｜親子で楽しむまち歩き体験イベント！
URL:https://kokuraweb.com/event/calendar9/
END:VEVENT
BEGIN:VEVENT
DTSTART;VALUE=DATE:20250517
DTEND;VALUE=DATE:20250518
DTSTAMP:20260424T074104
CREATED:20250513T072340Z
LAST-MODIFIED:20250513T072454Z
UID:1788-1747440000-1747526399@kokuraweb.com
SUMMARY:春のこどもbeat
DESCRIPTION:2025年5月17日（土）、勝山公園 大芝生広場にて【春のこどもbeat】が開催されます。\n外遊びやものづくり、アート体験やはたらく車とのふれあいまで、「春のこどもまんなか月間」に合わせて行われる、こどもが主役の体験イベント！こどもも大人も楽しめる多彩なコンテンツが大集合します。 \n   春のこどもbeat in 勝山公園｜遊んで学んで体験づくしのワクワクDAY！
URL:https://kokuraweb.com/event/calendar8/
END:VEVENT
BEGIN:VEVENT
DTSTART;VALUE=DATE:20250516
DTEND;VALUE=DATE:20250519
DTSTAMP:20260424T074104
CREATED:20250513T064233Z
LAST-MODIFIED:20250513T064248Z
UID:1773-1747353600-1747612799@kokuraweb.com
SUMMARY:レモンサワーフェス in リバーウォーク北九州
DESCRIPTION:2025年5月16日（金）～18日（日）、リバーウォーク北九州 1F ミスティックコートにて【レモンサワーフェス】が開催されます。 \n低糖質＆爽やかな後味で人気のレモンサワーが大集合！お酒に合うグルメや子どもも楽しめるレモネードなど、幅広い世代が楽しめる3日間です。 \n   レモンサワーフェス in リバーウォーク北九州｜爽快グルメでシュワっと乾杯！
URL:https://kokuraweb.com/event/calendar7/
END:VEVENT
BEGIN:VEVENT
DTSTART;VALUE=DATE:20250510
DTEND;VALUE=DATE:20250602
DTSTAMP:20260424T074104
CREATED:20250515T144544Z
LAST-MODIFIED:20250515T144544Z
UID:1892-1746835200-1748822399@kokuraweb.com
SUMMARY:春のばらフェア2025
DESCRIPTION:2025年5月10日（土）〜6月1日（日）、北九州市小倉南区の花農丘公園にて【春のばらフェア2025】が開催されます。\n約128品種・1\,000株のバラが咲き誇るばら園を中心に、ハワイアンショーやマルシェ、園芸講座、バラを使った限定ドリンクやスイーツなど、春の自然と花を楽しむイベントが盛りだくさんです。 \n   春のばらフェア2025｜色と香りに包まれる初夏のローズイベント！
URL:https://kokuraweb.com/event/calendar12/
END:VEVENT
BEGIN:VEVENT
DTSTART;VALUE=DATE:20250510
DTEND;VALUE=DATE:20250512
DTSTAMP:20260424T074104
CREATED:20250509T123338Z
LAST-MODIFIED:20250511T080708Z
UID:1644-1746835200-1747007999@kokuraweb.com
SUMMARY:ハンドメイドデイズ門司港2025
DESCRIPTION:2025年5月10日（土）・11日（日）、北九州市門司区の門司港レトロ中央広場・親水広場で【ハンドメイドデイズ門司港2025】\nが開催されます。\n春の門司港に、全国からハンドメイド作家さんたちが大集合。アクセサリー、雑貨、革小物、焼き菓子など、心を込めて作られた作品がずらりと並ぶマルシェイベントです。グルメブースもあり、のんびり過ごせる週末にぴったり。 \nハンドメイドデイズで、きっと素敵なモノ・人との出会いが見つかるはず。春風が心地よい港町・門司港へ、ぜひ遊びに来てください♪ \n   ハンドメイドデイズ門司港2025｜港町で出会う手仕事とグルメの休日
URL:https://kokuraweb.com/event/calendar3/
END:VEVENT
BEGIN:VEVENT
DTSTART;VALUE=DATE:20250510
DTEND;VALUE=DATE:20250512
DTSTAMP:20260424T074104
CREATED:20250509T090832Z
LAST-MODIFIED:20250511T080713Z
UID:1624-1746835200-1747007999@kokuraweb.com
SUMMARY:小倉カーブーツ
DESCRIPTION:2025年5月10日（土）・11日（日）、小倉北区城内・鴎外橋付近で【小倉カーブーツ】\nが開催されます。\nイギリス発祥の“カーブーツセール”をモチーフにしたこのイベントは、車のトランクをそのまま売り場として活用するユニークなフリーマーケットです。掘り出し物や一期一会の出会いが魅力です！ \n   小倉カーブーツ2025｜小倉で楽しむトランクフリマ＆掘り出し物探し！
URL:https://kokuraweb.com/event/calendar2/
END:VEVENT
BEGIN:VEVENT
DTSTART;VALUE=DATE:20250509
DTEND;VALUE=DATE:20250512
DTSTAMP:20260424T074104
CREATED:20250504T083346Z
LAST-MODIFIED:20250511T080719Z
UID:1556-1746748800-1747007999@kokuraweb.com
SUMMARY:北九州ハイボールフェスタ2025
DESCRIPTION:2025年5月9日（金）〜5月11日（日）、北九州市小倉北区・魚町みらい広場で【北九州ハイボールフェスタ2025】\nが開催されます。\n全国各地の様々なハイボールや生ビールはもちろん、焼き鳥や唐揚げなどのグルメも大集合！ \n   北九州ハイボールフェスタ2025｜小倉で楽しむ炭酸とウイスキーの祭典！
URL:https://kokuraweb.com/event/calendar1/
END:VEVENT
END:VCALENDAR